BEGIN:VCALENDAR
VERSION:2.0
PRODID:-//Providence Golf Club - ECPv6.15.18//NONSGML v1.0//EN
CALSCALE:GREGORIAN
METHOD:PUBLISH
X-WR-CALNAME:Providence Golf Club
X-ORIGINAL-URL:https://www.providence-golf.com
X-WR-CALDESC:Events for Providence Golf Club
REFRESH-INTERVAL;VALUE=DURATION:PT1H
X-Robots-Tag:noindex
X-PUBLISHED-TTL:PT1H
BEGIN:VTIMEZONE
TZID:America/New_York
BEGIN:DAYLIGHT
TZOFFSETFROM:-0500
TZOFFSETTO:-0400
TZNAME:EDT
DTSTART:20300310T070000
END:DAYLIGHT
BEGIN:STANDARD
TZOFFSETFROM:-0400
TZOFFSETTO:-0500
TZNAME:EST
DTSTART:20301103T060000
END:STANDARD
BEGIN:DAYLIGHT
TZOFFSETFROM:-0500
TZOFFSETTO:-0400
TZNAME:EDT
DTSTART:20310309T070000
END:DAYLIGHT
BEGIN:STANDARD
TZOFFSETFROM:-0400
TZOFFSETTO:-0500
TZNAME:EST
DTSTART:20311102T060000
END:STANDARD
BEGIN:DAYLIGHT
TZOFFSETFROM:-0500
TZOFFSETTO:-0400
TZNAME:EDT
DTSTART:20320314T070000
END:DAYLIGHT
BEGIN:STANDARD
TZOFFSETFROM:-0400
TZOFFSETTO:-0500
TZNAME:EST
DTSTART:20321107T060000
END:STANDARD
END:VTIMEZONE
BEGIN:VEVENT
DTSTART;TZID=America/New_York:20310227T173000
DTEND;TZID=America/New_York:20310227T213000
DTSTAMP:20260419T222516
CREATED:20260327T171932Z
LAST-MODIFIED:20260327T171932Z
UID:10003424-1929979800-1929994200@www.providence-golf.com
SUMMARY:W9NE - Wine & Nine
DESCRIPTION:All skill levels welcome beginning at 5:30pm
URL:https://www.providence-golf.com/event/w9ne-wine-nine/2031-02-27/
END:VEVENT
BEGIN:VEVENT
DTSTART;TZID=America/New_York:20310305T173000
DTEND;TZID=America/New_York:20310305T210000
DTSTAMP:20260419T222516
CREATED:20260327T171810Z
LAST-MODIFIED:20260327T171810Z
UID:10003165-1930498200-1930510800@www.providence-golf.com
SUMMARY:Wednesday Night Scramble
DESCRIPTION:Beginning at 5:30 pm. All skill levels welcome.
URL:https://www.providence-golf.com/event/wednesday-night-scramble/2031-03-05/
END:VEVENT
BEGIN:VEVENT
DTSTART;TZID=America/New_York:20310306T173000
DTEND;TZID=America/New_York:20310306T213000
DTSTAMP:20260419T222516
CREATED:20260327T171932Z
LAST-MODIFIED:20260327T171932Z
UID:10003425-1930584600-1930599000@www.providence-golf.com
SUMMARY:W9NE - Wine & Nine
DESCRIPTION:All skill levels welcome beginning at 5:30pm
URL:https://www.providence-golf.com/event/w9ne-wine-nine/2031-03-06/
END:VEVENT
BEGIN:VEVENT
DTSTART;TZID=America/New_York:20310312T173000
DTEND;TZID=America/New_York:20310312T210000
DTSTAMP:20260419T222516
CREATED:20260327T171810Z
LAST-MODIFIED:20260327T171810Z
UID:10003166-1931103000-1931115600@www.providence-golf.com
SUMMARY:Wednesday Night Scramble
DESCRIPTION:Beginning at 5:30 pm. All skill levels welcome.
URL:https://www.providence-golf.com/event/wednesday-night-scramble/2031-03-12/
END:VEVENT
BEGIN:VEVENT
DTSTART;TZID=America/New_York:20310313T173000
DTEND;TZID=America/New_York:20310313T213000
DTSTAMP:20260419T222516
CREATED:20260327T171932Z
LAST-MODIFIED:20260327T171932Z
UID:10003426-1931189400-1931203800@www.providence-golf.com
SUMMARY:W9NE - Wine & Nine
DESCRIPTION:All skill levels welcome beginning at 5:30pm
URL:https://www.providence-golf.com/event/w9ne-wine-nine/2031-03-13/
END:VEVENT
BEGIN:VEVENT
DTSTART;TZID=America/New_York:20310319T173000
DTEND;TZID=America/New_York:20310319T210000
DTSTAMP:20260419T222516
CREATED:20260327T171810Z
LAST-MODIFIED:20260327T171810Z
UID:10003167-1931707800-1931720400@www.providence-golf.com
SUMMARY:Wednesday Night Scramble
DESCRIPTION:Beginning at 5:30 pm. All skill levels welcome.
URL:https://www.providence-golf.com/event/wednesday-night-scramble/2031-03-19/
END:VEVENT
BEGIN:VEVENT
DTSTART;TZID=America/New_York:20310320T173000
DTEND;TZID=America/New_York:20310320T213000
DTSTAMP:20260419T222516
CREATED:20260327T171932Z
LAST-MODIFIED:20260327T171932Z
UID:10003427-1931794200-1931808600@www.providence-golf.com
SUMMARY:W9NE - Wine & Nine
DESCRIPTION:All skill levels welcome beginning at 5:30pm
URL:https://www.providence-golf.com/event/w9ne-wine-nine/2031-03-20/
END:VEVENT
BEGIN:VEVENT
DTSTART;TZID=America/New_York:20310326T173000
DTEND;TZID=America/New_York:20310326T210000
DTSTAMP:20260419T222516
CREATED:20260327T171810Z
LAST-MODIFIED:20260327T171810Z
UID:10003168-1932312600-1932325200@www.providence-golf.com
SUMMARY:Wednesday Night Scramble
DESCRIPTION:Beginning at 5:30 pm. All skill levels welcome.
URL:https://www.providence-golf.com/event/wednesday-night-scramble/2031-03-26/
END:VEVENT
BEGIN:VEVENT
DTSTART;TZID=America/New_York:20310327T173000
DTEND;TZID=America/New_York:20310327T213000
DTSTAMP:20260419T222516
CREATED:20260327T171932Z
LAST-MODIFIED:20260327T171932Z
UID:10003428-1932399000-1932413400@www.providence-golf.com
SUMMARY:W9NE - Wine & Nine
DESCRIPTION:All skill levels welcome beginning at 5:30pm
URL:https://www.providence-golf.com/event/w9ne-wine-nine/2031-03-27/
END:VEVENT
END:VCALENDAR