BEGIN:VCALENDAR
VERSION:2.0
PRODID:-//Providence Golf Club - ECPv6.15.18//NONSGML v1.0//EN
CALSCALE:GREGORIAN
METHOD:PUBLISH
X-ORIGINAL-URL:https://www.providence-golf.com
X-WR-CALDESC:Events for Providence Golf Club
REFRESH-INTERVAL;VALUE=DURATION:PT1H
X-Robots-Tag:noindex
X-PUBLISHED-TTL:PT1H
BEGIN:VTIMEZONE
TZID:America/New_York
BEGIN:DAYLIGHT
TZOFFSETFROM:-0500
TZOFFSETTO:-0400
TZNAME:EDT
DTSTART:20270314T070000
END:DAYLIGHT
BEGIN:STANDARD
TZOFFSETFROM:-0400
TZOFFSETTO:-0500
TZNAME:EST
DTSTART:20271107T060000
END:STANDARD
BEGIN:DAYLIGHT
TZOFFSETFROM:-0500
TZOFFSETTO:-0400
TZNAME:EDT
DTSTART:20280312T070000
END:DAYLIGHT
BEGIN:STANDARD
TZOFFSETFROM:-0400
TZOFFSETTO:-0500
TZNAME:EST
DTSTART:20281105T060000
END:STANDARD
BEGIN:DAYLIGHT
TZOFFSETFROM:-0500
TZOFFSETTO:-0400
TZNAME:EDT
DTSTART:20290311T070000
END:DAYLIGHT
BEGIN:STANDARD
TZOFFSETFROM:-0400
TZOFFSETTO:-0500
TZNAME:EST
DTSTART:20291104T060000
END:STANDARD
BEGIN:DAYLIGHT
TZOFFSETFROM:-0500
TZOFFSETTO:-0400
TZNAME:EDT
DTSTART:20300310T070000
END:DAYLIGHT
BEGIN:STANDARD
TZOFFSETFROM:-0400
TZOFFSETTO:-0500
TZNAME:EST
DTSTART:20301103T060000
END:STANDARD
END:VTIMEZONE
BEGIN:VEVENT
DTSTART;TZID=America/New_York:20280720T173000
DTEND;TZID=America/New_York:20280720T213000
DTSTAMP:20260422T123820
CREATED:20260327T171932Z
LAST-MODIFIED:20260327T171932Z
UID:10003288-1847727000-1847741400@www.providence-golf.com
SUMMARY:W9NE - Wine & Nine
DESCRIPTION:All skill levels welcome beginning at 5:30pm
URL:https://www.providence-golf.com/event/w9ne-wine-nine/2028-07-20/
END:VEVENT
BEGIN:VEVENT
DTSTART;TZID=America/New_York:20280727T173000
DTEND;TZID=America/New_York:20280727T213000
DTSTAMP:20260422T123820
CREATED:20260327T171932Z
LAST-MODIFIED:20260327T171932Z
UID:10003289-1848331800-1848346200@www.providence-golf.com
SUMMARY:W9NE - Wine & Nine
DESCRIPTION:All skill levels welcome beginning at 5:30pm
URL:https://www.providence-golf.com/event/w9ne-wine-nine/2028-07-27/
END:VEVENT
BEGIN:VEVENT
DTSTART;TZID=America/New_York:20280803T173000
DTEND;TZID=America/New_York:20280803T213000
DTSTAMP:20260422T123820
CREATED:20260327T171932Z
LAST-MODIFIED:20260327T171932Z
UID:10003290-1848936600-1848951000@www.providence-golf.com
SUMMARY:W9NE - Wine & Nine
DESCRIPTION:All skill levels welcome beginning at 5:30pm
URL:https://www.providence-golf.com/event/w9ne-wine-nine/2028-08-03/
END:VEVENT
BEGIN:VEVENT
DTSTART;TZID=America/New_York:20280810T173000
DTEND;TZID=America/New_York:20280810T213000
DTSTAMP:20260422T123820
CREATED:20260327T171932Z
LAST-MODIFIED:20260327T171932Z
UID:10003291-1849541400-1849555800@www.providence-golf.com
SUMMARY:W9NE - Wine & Nine
DESCRIPTION:All skill levels welcome beginning at 5:30pm
URL:https://www.providence-golf.com/event/w9ne-wine-nine/2028-08-10/
END:VEVENT
BEGIN:VEVENT
DTSTART;TZID=America/New_York:20280817T173000
DTEND;TZID=America/New_York:20280817T213000
DTSTAMP:20260422T123820
CREATED:20260327T171932Z
LAST-MODIFIED:20260327T171932Z
UID:10003292-1850146200-1850160600@www.providence-golf.com
SUMMARY:W9NE - Wine & Nine
DESCRIPTION:All skill levels welcome beginning at 5:30pm
URL:https://www.providence-golf.com/event/w9ne-wine-nine/2028-08-17/
END:VEVENT
BEGIN:VEVENT
DTSTART;TZID=America/New_York:20280824T173000
DTEND;TZID=America/New_York:20280824T213000
DTSTAMP:20260422T123820
CREATED:20260327T171932Z
LAST-MODIFIED:20260327T171932Z
UID:10003293-1850751000-1850765400@www.providence-golf.com
SUMMARY:W9NE - Wine & Nine
DESCRIPTION:All skill levels welcome beginning at 5:30pm
URL:https://www.providence-golf.com/event/w9ne-wine-nine/2028-08-24/
END:VEVENT
BEGIN:VEVENT
DTSTART;TZID=America/New_York:20280831T173000
DTEND;TZID=America/New_York:20280831T213000
DTSTAMP:20260422T123820
CREATED:20260327T171932Z
LAST-MODIFIED:20260327T171932Z
UID:10003294-1851355800-1851370200@www.providence-golf.com
SUMMARY:W9NE - Wine & Nine
DESCRIPTION:All skill levels welcome beginning at 5:30pm
URL:https://www.providence-golf.com/event/w9ne-wine-nine/2028-08-31/
END:VEVENT
BEGIN:VEVENT
DTSTART;TZID=America/New_York:20280907T173000
DTEND;TZID=America/New_York:20280907T213000
DTSTAMP:20260422T123820
CREATED:20260327T171932Z
LAST-MODIFIED:20260327T171932Z
UID:10003295-1851960600-1851975000@www.providence-golf.com
SUMMARY:W9NE - Wine & Nine
DESCRIPTION:All skill levels welcome beginning at 5:30pm
URL:https://www.providence-golf.com/event/w9ne-wine-nine/2028-09-07/
END:VEVENT
BEGIN:VEVENT
DTSTART;TZID=America/New_York:20280914T173000
DTEND;TZID=America/New_York:20280914T213000
DTSTAMP:20260422T123820
CREATED:20260327T171932Z
LAST-MODIFIED:20260327T171932Z
UID:10003296-1852565400-1852579800@www.providence-golf.com
SUMMARY:W9NE - Wine & Nine
DESCRIPTION:All skill levels welcome beginning at 5:30pm
URL:https://www.providence-golf.com/event/w9ne-wine-nine/2028-09-14/
END:VEVENT
BEGIN:VEVENT
DTSTART;TZID=America/New_York:20280921T173000
DTEND;TZID=America/New_York:20280921T213000
DTSTAMP:20260422T123820
CREATED:20260327T171932Z
LAST-MODIFIED:20260327T171932Z
UID:10003297-1853170200-1853184600@www.providence-golf.com
SUMMARY:W9NE - Wine & Nine
DESCRIPTION:All skill levels welcome beginning at 5:30pm
URL:https://www.providence-golf.com/event/w9ne-wine-nine/2028-09-21/
END:VEVENT
BEGIN:VEVENT
DTSTART;TZID=America/New_York:20280928T173000
DTEND;TZID=America/New_York:20280928T213000
DTSTAMP:20260422T123820
CREATED:20260327T171932Z
LAST-MODIFIED:20260327T171932Z
UID:10003298-1853775000-1853789400@www.providence-golf.com
SUMMARY:W9NE - Wine & Nine
DESCRIPTION:All skill levels welcome beginning at 5:30pm
URL:https://www.providence-golf.com/event/w9ne-wine-nine/2028-09-28/
END:VEVENT
BEGIN:VEVENT
DTSTART;TZID=America/New_York:20281005T173000
DTEND;TZID=America/New_York:20281005T213000
DTSTAMP:20260422T123820
CREATED:20260327T171932Z
LAST-MODIFIED:20260327T171932Z
UID:10003299-1854379800-1854394200@www.providence-golf.com
SUMMARY:W9NE - Wine & Nine
DESCRIPTION:All skill levels welcome beginning at 5:30pm
URL:https://www.providence-golf.com/event/w9ne-wine-nine/2028-10-05/
END:VEVENT
BEGIN:VEVENT
DTSTART;TZID=America/New_York:20281012T173000
DTEND;TZID=America/New_York:20281012T213000
DTSTAMP:20260422T123820
CREATED:20260327T171932Z
LAST-MODIFIED:20260327T171932Z
UID:10003300-1854984600-1854999000@www.providence-golf.com
SUMMARY:W9NE - Wine & Nine
DESCRIPTION:All skill levels welcome beginning at 5:30pm
URL:https://www.providence-golf.com/event/w9ne-wine-nine/2028-10-12/
END:VEVENT
BEGIN:VEVENT
DTSTART;TZID=America/New_York:20281019T173000
DTEND;TZID=America/New_York:20281019T213000
DTSTAMP:20260422T123820
CREATED:20260327T171932Z
LAST-MODIFIED:20260327T171932Z
UID:10003301-1855589400-1855603800@www.providence-golf.com
SUMMARY:W9NE - Wine & Nine
DESCRIPTION:All skill levels welcome beginning at 5:30pm
URL:https://www.providence-golf.com/event/w9ne-wine-nine/2028-10-19/
END:VEVENT
BEGIN:VEVENT
DTSTART;TZID=America/New_York:20281026T173000
DTEND;TZID=America/New_York:20281026T213000
DTSTAMP:20260422T123820
CREATED:20260327T171932Z
LAST-MODIFIED:20260327T171932Z
UID:10003302-1856194200-1856208600@www.providence-golf.com
SUMMARY:W9NE - Wine & Nine
DESCRIPTION:All skill levels welcome beginning at 5:30pm
URL:https://www.providence-golf.com/event/w9ne-wine-nine/2028-10-26/
END:VEVENT
BEGIN:VEVENT
DTSTART;TZID=America/New_York:20281102T173000
DTEND;TZID=America/New_York:20281102T213000
DTSTAMP:20260422T123820
CREATED:20260327T171932Z
LAST-MODIFIED:20260327T171932Z
UID:10003303-1856799000-1856813400@www.providence-golf.com
SUMMARY:W9NE - Wine & Nine
DESCRIPTION:All skill levels welcome beginning at 5:30pm
URL:https://www.providence-golf.com/event/w9ne-wine-nine/2028-11-02/
END:VEVENT
BEGIN:VEVENT
DTSTART;TZID=America/New_York:20281109T173000
DTEND;TZID=America/New_York:20281109T213000
DTSTAMP:20260422T123820
CREATED:20260327T171932Z
LAST-MODIFIED:20260327T171932Z
UID:10003304-1857403800-1857418200@www.providence-golf.com
SUMMARY:W9NE - Wine & Nine
DESCRIPTION:All skill levels welcome beginning at 5:30pm
URL:https://www.providence-golf.com/event/w9ne-wine-nine/2028-11-09/
END:VEVENT
BEGIN:VEVENT
DTSTART;TZID=America/New_York:20281116T173000
DTEND;TZID=America/New_York:20281116T213000
DTSTAMP:20260422T123820
CREATED:20260327T171932Z
LAST-MODIFIED:20260327T171932Z
UID:10003305-1858008600-1858023000@www.providence-golf.com
SUMMARY:W9NE - Wine & Nine
DESCRIPTION:All skill levels welcome beginning at 5:30pm
URL:https://www.providence-golf.com/event/w9ne-wine-nine/2028-11-16/
END:VEVENT
BEGIN:VEVENT
DTSTART;TZID=America/New_York:20281123T173000
DTEND;TZID=America/New_York:20281123T213000
DTSTAMP:20260422T123820
CREATED:20260327T171932Z
LAST-MODIFIED:20260327T171932Z
UID:10003306-1858613400-1858627800@www.providence-golf.com
SUMMARY:W9NE - Wine & Nine
DESCRIPTION:All skill levels welcome beginning at 5:30pm
URL:https://www.providence-golf.com/event/w9ne-wine-nine/2028-11-23/
END:VEVENT
BEGIN:VEVENT
DTSTART;TZID=America/New_York:20281130T173000
DTEND;TZID=America/New_York:20281130T213000
DTSTAMP:20260422T123820
CREATED:20260327T171932Z
LAST-MODIFIED:20260327T171932Z
UID:10003307-1859218200-1859232600@www.providence-golf.com
SUMMARY:W9NE - Wine & Nine
DESCRIPTION:All skill levels welcome beginning at 5:30pm
URL:https://www.providence-golf.com/event/w9ne-wine-nine/2028-11-30/
END:VEVENT
BEGIN:VEVENT
DTSTART;TZID=America/New_York:20281207T173000
DTEND;TZID=America/New_York:20281207T213000
DTSTAMP:20260422T123820
CREATED:20260327T171932Z
LAST-MODIFIED:20260327T171932Z
UID:10003308-1859823000-1859837400@www.providence-golf.com
SUMMARY:W9NE - Wine & Nine
DESCRIPTION:All skill levels welcome beginning at 5:30pm
URL:https://www.providence-golf.com/event/w9ne-wine-nine/2028-12-07/
END:VEVENT
BEGIN:VEVENT
DTSTART;TZID=America/New_York:20281214T173000
DTEND;TZID=America/New_York:20281214T213000
DTSTAMP:20260422T123820
CREATED:20260327T171932Z
LAST-MODIFIED:20260327T171932Z
UID:10003309-1860427800-1860442200@www.providence-golf.com
SUMMARY:W9NE - Wine & Nine
DESCRIPTION:All skill levels welcome beginning at 5:30pm
URL:https://www.providence-golf.com/event/w9ne-wine-nine/2028-12-14/
END:VEVENT
BEGIN:VEVENT
DTSTART;TZID=America/New_York:20281221T173000
DTEND;TZID=America/New_York:20281221T213000
DTSTAMP:20260422T123820
CREATED:20260327T171932Z
LAST-MODIFIED:20260327T171932Z
UID:10003310-1861032600-1861047000@www.providence-golf.com
SUMMARY:W9NE - Wine & Nine
DESCRIPTION:All skill levels welcome beginning at 5:30pm
URL:https://www.providence-golf.com/event/w9ne-wine-nine/2028-12-21/
END:VEVENT
BEGIN:VEVENT
DTSTART;TZID=America/New_York:20281228T173000
DTEND;TZID=America/New_York:20281228T213000
DTSTAMP:20260422T123820
CREATED:20260327T171932Z
LAST-MODIFIED:20260327T171932Z
UID:10003311-1861637400-1861651800@www.providence-golf.com
SUMMARY:W9NE - Wine & Nine
DESCRIPTION:All skill levels welcome beginning at 5:30pm
URL:https://www.providence-golf.com/event/w9ne-wine-nine/2028-12-28/
END:VEVENT
BEGIN:VEVENT
DTSTART;TZID=America/New_York:20290104T173000
DTEND;TZID=America/New_York:20290104T213000
DTSTAMP:20260422T123820
CREATED:20260327T171932Z
LAST-MODIFIED:20260327T171932Z
UID:10003312-1862242200-1862256600@www.providence-golf.com
SUMMARY:W9NE - Wine & Nine
DESCRIPTION:All skill levels welcome beginning at 5:30pm
URL:https://www.providence-golf.com/event/w9ne-wine-nine/2029-01-04/
END:VEVENT
BEGIN:VEVENT
DTSTART;TZID=America/New_York:20290111T173000
DTEND;TZID=America/New_York:20290111T213000
DTSTAMP:20260422T123820
CREATED:20260327T171932Z
LAST-MODIFIED:20260327T171932Z
UID:10003313-1862847000-1862861400@www.providence-golf.com
SUMMARY:W9NE - Wine & Nine
DESCRIPTION:All skill levels welcome beginning at 5:30pm
URL:https://www.providence-golf.com/event/w9ne-wine-nine/2029-01-11/
END:VEVENT
BEGIN:VEVENT
DTSTART;TZID=America/New_York:20290118T173000
DTEND;TZID=America/New_York:20290118T213000
DTSTAMP:20260422T123820
CREATED:20260327T171932Z
LAST-MODIFIED:20260327T171932Z
UID:10003314-1863451800-1863466200@www.providence-golf.com
SUMMARY:W9NE - Wine & Nine
DESCRIPTION:All skill levels welcome beginning at 5:30pm
URL:https://www.providence-golf.com/event/w9ne-wine-nine/2029-01-18/
END:VEVENT
BEGIN:VEVENT
DTSTART;TZID=America/New_York:20290125T173000
DTEND;TZID=America/New_York:20290125T213000
DTSTAMP:20260422T123820
CREATED:20260327T171932Z
LAST-MODIFIED:20260327T171932Z
UID:10003315-1864056600-1864071000@www.providence-golf.com
SUMMARY:W9NE - Wine & Nine
DESCRIPTION:All skill levels welcome beginning at 5:30pm
URL:https://www.providence-golf.com/event/w9ne-wine-nine/2029-01-25/
END:VEVENT
BEGIN:VEVENT
DTSTART;TZID=America/New_York:20290201T173000
DTEND;TZID=America/New_York:20290201T213000
DTSTAMP:20260422T123820
CREATED:20260327T171932Z
LAST-MODIFIED:20260327T171932Z
UID:10003316-1864661400-1864675800@www.providence-golf.com
SUMMARY:W9NE - Wine & Nine
DESCRIPTION:All skill levels welcome beginning at 5:30pm
URL:https://www.providence-golf.com/event/w9ne-wine-nine/2029-02-01/
END:VEVENT
BEGIN:VEVENT
DTSTART;TZID=America/New_York:20290208T173000
DTEND;TZID=America/New_York:20290208T213000
DTSTAMP:20260422T123820
CREATED:20260327T171932Z
LAST-MODIFIED:20260327T171932Z
UID:10003317-1865266200-1865280600@www.providence-golf.com
SUMMARY:W9NE - Wine & Nine
DESCRIPTION:All skill levels welcome beginning at 5:30pm
URL:https://www.providence-golf.com/event/w9ne-wine-nine/2029-02-08/
END:VEVENT
END:VCALENDAR