BEGIN:VCALENDAR
VERSION:2.0
PRODID:-//Providence Golf Club - ECPv6.15.18//NONSGML v1.0//EN
CALSCALE:GREGORIAN
METHOD:PUBLISH
X-WR-CALNAME:Providence Golf Club
X-ORIGINAL-URL:https://www.providence-golf.com
X-WR-CALDESC:Events for Providence Golf Club
REFRESH-INTERVAL;VALUE=DURATION:PT1H
X-Robots-Tag:noindex
X-PUBLISHED-TTL:PT1H
BEGIN:VTIMEZONE
TZID:UTC
BEGIN:STANDARD
TZOFFSETFROM:+0000
TZOFFSETTO:+0000
TZNAME:UTC
DTSTART:20260101T000000
END:STANDARD
END:VTIMEZONE
BEGIN:VEVENT
DTSTART;TZID=UTC:20270107T180000
DTEND;TZID=UTC:20270107T200000
DTSTAMP:20260425T173426
CREATED:20240910T215309Z
LAST-MODIFIED:20240910T215551Z
UID:10000907-1799344800-1799352000@www.providence-golf.com
SUMMARY:Thursday Night POKER night
DESCRIPTION:Come join the action at Blue Heron Tavern @ Providence for FREE Poker Night.
URL:https://www.providence-golf.com/event/thursday-night-poker-night/2027-01-07/
END:VEVENT
BEGIN:VEVENT
DTSTART;TZID=UTC:20270114T180000
DTEND;TZID=UTC:20270114T200000
DTSTAMP:20260425T173426
CREATED:20240910T215309Z
LAST-MODIFIED:20240910T215551Z
UID:10000908-1799949600-1799956800@www.providence-golf.com
SUMMARY:Thursday Night POKER night
DESCRIPTION:Come join the action at Blue Heron Tavern @ Providence for FREE Poker Night.
URL:https://www.providence-golf.com/event/thursday-night-poker-night/2027-01-14/
END:VEVENT
BEGIN:VEVENT
DTSTART;TZID=UTC:20270121T180000
DTEND;TZID=UTC:20270121T200000
DTSTAMP:20260425T173426
CREATED:20240910T215309Z
LAST-MODIFIED:20240910T215551Z
UID:10000909-1800554400-1800561600@www.providence-golf.com
SUMMARY:Thursday Night POKER night
DESCRIPTION:Come join the action at Blue Heron Tavern @ Providence for FREE Poker Night.
URL:https://www.providence-golf.com/event/thursday-night-poker-night/2027-01-21/
END:VEVENT
BEGIN:VEVENT
DTSTART;TZID=UTC:20270128T180000
DTEND;TZID=UTC:20270128T200000
DTSTAMP:20260425T173426
CREATED:20240910T215309Z
LAST-MODIFIED:20240910T215551Z
UID:10000910-1801159200-1801166400@www.providence-golf.com
SUMMARY:Thursday Night POKER night
DESCRIPTION:Come join the action at Blue Heron Tavern @ Providence for FREE Poker Night.
URL:https://www.providence-golf.com/event/thursday-night-poker-night/2027-01-28/
END:VEVENT
BEGIN:VEVENT
DTSTART;TZID=UTC:20270204T180000
DTEND;TZID=UTC:20270204T200000
DTSTAMP:20260425T173426
CREATED:20240910T215309Z
LAST-MODIFIED:20240910T215551Z
UID:10000911-1801764000-1801771200@www.providence-golf.com
SUMMARY:Thursday Night POKER night
DESCRIPTION:Come join the action at Blue Heron Tavern @ Providence for FREE Poker Night.
URL:https://www.providence-golf.com/event/thursday-night-poker-night/2027-02-04/
END:VEVENT
BEGIN:VEVENT
DTSTART;TZID=UTC:20270211T180000
DTEND;TZID=UTC:20270211T200000
DTSTAMP:20260425T173426
CREATED:20240910T215309Z
LAST-MODIFIED:20240910T215551Z
UID:10000912-1802368800-1802376000@www.providence-golf.com
SUMMARY:Thursday Night POKER night
DESCRIPTION:Come join the action at Blue Heron Tavern @ Providence for FREE Poker Night.
URL:https://www.providence-golf.com/event/thursday-night-poker-night/2027-02-11/
END:VEVENT
BEGIN:VEVENT
DTSTART;TZID=UTC:20270218T180000
DTEND;TZID=UTC:20270218T200000
DTSTAMP:20260425T173426
CREATED:20240910T215309Z
LAST-MODIFIED:20240910T215551Z
UID:10000913-1802973600-1802980800@www.providence-golf.com
SUMMARY:Thursday Night POKER night
DESCRIPTION:Come join the action at Blue Heron Tavern @ Providence for FREE Poker Night.
URL:https://www.providence-golf.com/event/thursday-night-poker-night/2027-02-18/
END:VEVENT
BEGIN:VEVENT
DTSTART;TZID=UTC:20270225T180000
DTEND;TZID=UTC:20270225T200000
DTSTAMP:20260425T173426
CREATED:20240910T215309Z
LAST-MODIFIED:20240910T215551Z
UID:10000914-1803578400-1803585600@www.providence-golf.com
SUMMARY:Thursday Night POKER night
DESCRIPTION:Come join the action at Blue Heron Tavern @ Providence for FREE Poker Night.
URL:https://www.providence-golf.com/event/thursday-night-poker-night/2027-02-25/
END:VEVENT
BEGIN:VEVENT
DTSTART;TZID=UTC:20270304T180000
DTEND;TZID=UTC:20270304T200000
DTSTAMP:20260425T173426
CREATED:20240910T215309Z
LAST-MODIFIED:20240910T215551Z
UID:10000915-1804183200-1804190400@www.providence-golf.com
SUMMARY:Thursday Night POKER night
DESCRIPTION:Come join the action at Blue Heron Tavern @ Providence for FREE Poker Night.
URL:https://www.providence-golf.com/event/thursday-night-poker-night/2027-03-04/
END:VEVENT
BEGIN:VEVENT
DTSTART;TZID=UTC:20270311T180000
DTEND;TZID=UTC:20270311T200000
DTSTAMP:20260425T173426
CREATED:20240910T215309Z
LAST-MODIFIED:20240910T215551Z
UID:10000916-1804788000-1804795200@www.providence-golf.com
SUMMARY:Thursday Night POKER night
DESCRIPTION:Come join the action at Blue Heron Tavern @ Providence for FREE Poker Night.
URL:https://www.providence-golf.com/event/thursday-night-poker-night/2027-03-11/
END:VEVENT
BEGIN:VEVENT
DTSTART;TZID=UTC:20270318T180000
DTEND;TZID=UTC:20270318T200000
DTSTAMP:20260425T173426
CREATED:20240910T215309Z
LAST-MODIFIED:20240910T215551Z
UID:10000917-1805392800-1805400000@www.providence-golf.com
SUMMARY:Thursday Night POKER night
DESCRIPTION:Come join the action at Blue Heron Tavern @ Providence for FREE Poker Night.
URL:https://www.providence-golf.com/event/thursday-night-poker-night/2027-03-18/
END:VEVENT
BEGIN:VEVENT
DTSTART;TZID=UTC:20270325T180000
DTEND;TZID=UTC:20270325T200000
DTSTAMP:20260425T173426
CREATED:20240910T215309Z
LAST-MODIFIED:20240910T215551Z
UID:10000918-1805997600-1806004800@www.providence-golf.com
SUMMARY:Thursday Night POKER night
DESCRIPTION:Come join the action at Blue Heron Tavern @ Providence for FREE Poker Night.
URL:https://www.providence-golf.com/event/thursday-night-poker-night/2027-03-25/
END:VEVENT
BEGIN:VEVENT
DTSTART;TZID=UTC:20270401T180000
DTEND;TZID=UTC:20270401T200000
DTSTAMP:20260425T173426
CREATED:20240910T215309Z
LAST-MODIFIED:20240910T215551Z
UID:10000919-1806602400-1806609600@www.providence-golf.com
SUMMARY:Thursday Night POKER night
DESCRIPTION:Come join the action at Blue Heron Tavern @ Providence for FREE Poker Night.
URL:https://www.providence-golf.com/event/thursday-night-poker-night/2027-04-01/
END:VEVENT
BEGIN:VEVENT
DTSTART;TZID=UTC:20270408T180000
DTEND;TZID=UTC:20270408T200000
DTSTAMP:20260425T173426
CREATED:20240910T215309Z
LAST-MODIFIED:20240910T215551Z
UID:10000920-1807207200-1807214400@www.providence-golf.com
SUMMARY:Thursday Night POKER night
DESCRIPTION:Come join the action at Blue Heron Tavern @ Providence for FREE Poker Night.
URL:https://www.providence-golf.com/event/thursday-night-poker-night/2027-04-08/
END:VEVENT
BEGIN:VEVENT
DTSTART;TZID=UTC:20270415T180000
DTEND;TZID=UTC:20270415T200000
DTSTAMP:20260425T173426
CREATED:20240910T215309Z
LAST-MODIFIED:20240910T215551Z
UID:10000921-1807812000-1807819200@www.providence-golf.com
SUMMARY:Thursday Night POKER night
DESCRIPTION:Come join the action at Blue Heron Tavern @ Providence for FREE Poker Night.
URL:https://www.providence-golf.com/event/thursday-night-poker-night/2027-04-15/
END:VEVENT
BEGIN:VEVENT
DTSTART;TZID=UTC:20270422T180000
DTEND;TZID=UTC:20270422T200000
DTSTAMP:20260425T173426
CREATED:20240910T215309Z
LAST-MODIFIED:20240910T215551Z
UID:10000922-1808416800-1808424000@www.providence-golf.com
SUMMARY:Thursday Night POKER night
DESCRIPTION:Come join the action at Blue Heron Tavern @ Providence for FREE Poker Night.
URL:https://www.providence-golf.com/event/thursday-night-poker-night/2027-04-22/
END:VEVENT
BEGIN:VEVENT
DTSTART;TZID=UTC:20270429T180000
DTEND;TZID=UTC:20270429T200000
DTSTAMP:20260425T173426
CREATED:20240910T215309Z
LAST-MODIFIED:20240910T215551Z
UID:10000923-1809021600-1809028800@www.providence-golf.com
SUMMARY:Thursday Night POKER night
DESCRIPTION:Come join the action at Blue Heron Tavern @ Providence for FREE Poker Night.
URL:https://www.providence-golf.com/event/thursday-night-poker-night/2027-04-29/
END:VEVENT
BEGIN:VEVENT
DTSTART;TZID=UTC:20270506T180000
DTEND;TZID=UTC:20270506T200000
DTSTAMP:20260425T173426
CREATED:20240910T215309Z
LAST-MODIFIED:20240910T215551Z
UID:10000924-1809626400-1809633600@www.providence-golf.com
SUMMARY:Thursday Night POKER night
DESCRIPTION:Come join the action at Blue Heron Tavern @ Providence for FREE Poker Night.
URL:https://www.providence-golf.com/event/thursday-night-poker-night/2027-05-06/
END:VEVENT
BEGIN:VEVENT
DTSTART;TZID=UTC:20270513T180000
DTEND;TZID=UTC:20270513T200000
DTSTAMP:20260425T173426
CREATED:20240910T215309Z
LAST-MODIFIED:20240910T215551Z
UID:10000925-1810231200-1810238400@www.providence-golf.com
SUMMARY:Thursday Night POKER night
DESCRIPTION:Come join the action at Blue Heron Tavern @ Providence for FREE Poker Night.
URL:https://www.providence-golf.com/event/thursday-night-poker-night/2027-05-13/
END:VEVENT
BEGIN:VEVENT
DTSTART;TZID=UTC:20270520T180000
DTEND;TZID=UTC:20270520T200000
DTSTAMP:20260425T173426
CREATED:20240910T215309Z
LAST-MODIFIED:20240910T215551Z
UID:10000926-1810836000-1810843200@www.providence-golf.com
SUMMARY:Thursday Night POKER night
DESCRIPTION:Come join the action at Blue Heron Tavern @ Providence for FREE Poker Night.
URL:https://www.providence-golf.com/event/thursday-night-poker-night/2027-05-20/
END:VEVENT
BEGIN:VEVENT
DTSTART;TZID=UTC:20270527T180000
DTEND;TZID=UTC:20270527T200000
DTSTAMP:20260425T173426
CREATED:20240910T215309Z
LAST-MODIFIED:20240910T215551Z
UID:10000927-1811440800-1811448000@www.providence-golf.com
SUMMARY:Thursday Night POKER night
DESCRIPTION:Come join the action at Blue Heron Tavern @ Providence for FREE Poker Night.
URL:https://www.providence-golf.com/event/thursday-night-poker-night/2027-05-27/
END:VEVENT
BEGIN:VEVENT
DTSTART;TZID=UTC:20270603T180000
DTEND;TZID=UTC:20270603T200000
DTSTAMP:20260425T173426
CREATED:20240910T215309Z
LAST-MODIFIED:20240910T215551Z
UID:10000928-1812045600-1812052800@www.providence-golf.com
SUMMARY:Thursday Night POKER night
DESCRIPTION:Come join the action at Blue Heron Tavern @ Providence for FREE Poker Night.
URL:https://www.providence-golf.com/event/thursday-night-poker-night/2027-06-03/
END:VEVENT
BEGIN:VEVENT
DTSTART;TZID=UTC:20270610T180000
DTEND;TZID=UTC:20270610T200000
DTSTAMP:20260425T173426
CREATED:20240910T215309Z
LAST-MODIFIED:20240910T215551Z
UID:10000929-1812650400-1812657600@www.providence-golf.com
SUMMARY:Thursday Night POKER night
DESCRIPTION:Come join the action at Blue Heron Tavern @ Providence for FREE Poker Night.
URL:https://www.providence-golf.com/event/thursday-night-poker-night/2027-06-10/
END:VEVENT
BEGIN:VEVENT
DTSTART;TZID=UTC:20270617T180000
DTEND;TZID=UTC:20270617T200000
DTSTAMP:20260425T173426
CREATED:20240910T215309Z
LAST-MODIFIED:20240910T215551Z
UID:10000930-1813255200-1813262400@www.providence-golf.com
SUMMARY:Thursday Night POKER night
DESCRIPTION:Come join the action at Blue Heron Tavern @ Providence for FREE Poker Night.
URL:https://www.providence-golf.com/event/thursday-night-poker-night/2027-06-17/
END:VEVENT
BEGIN:VEVENT
DTSTART;TZID=UTC:20270624T180000
DTEND;TZID=UTC:20270624T200000
DTSTAMP:20260425T173426
CREATED:20240910T215309Z
LAST-MODIFIED:20240910T215551Z
UID:10000931-1813860000-1813867200@www.providence-golf.com
SUMMARY:Thursday Night POKER night
DESCRIPTION:Come join the action at Blue Heron Tavern @ Providence for FREE Poker Night.
URL:https://www.providence-golf.com/event/thursday-night-poker-night/2027-06-24/
END:VEVENT
BEGIN:VEVENT
DTSTART;TZID=UTC:20270701T180000
DTEND;TZID=UTC:20270701T200000
DTSTAMP:20260425T173426
CREATED:20240910T215309Z
LAST-MODIFIED:20240910T215551Z
UID:10000932-1814464800-1814472000@www.providence-golf.com
SUMMARY:Thursday Night POKER night
DESCRIPTION:Come join the action at Blue Heron Tavern @ Providence for FREE Poker Night.
URL:https://www.providence-golf.com/event/thursday-night-poker-night/2027-07-01/
END:VEVENT
BEGIN:VEVENT
DTSTART;TZID=UTC:20270708T180000
DTEND;TZID=UTC:20270708T200000
DTSTAMP:20260425T173426
CREATED:20240910T215309Z
LAST-MODIFIED:20240910T215551Z
UID:10000933-1815069600-1815076800@www.providence-golf.com
SUMMARY:Thursday Night POKER night
DESCRIPTION:Come join the action at Blue Heron Tavern @ Providence for FREE Poker Night.
URL:https://www.providence-golf.com/event/thursday-night-poker-night/2027-07-08/
END:VEVENT
BEGIN:VEVENT
DTSTART;TZID=UTC:20270715T180000
DTEND;TZID=UTC:20270715T200000
DTSTAMP:20260425T173426
CREATED:20240910T215309Z
LAST-MODIFIED:20240910T215551Z
UID:10000934-1815674400-1815681600@www.providence-golf.com
SUMMARY:Thursday Night POKER night
DESCRIPTION:Come join the action at Blue Heron Tavern @ Providence for FREE Poker Night.
URL:https://www.providence-golf.com/event/thursday-night-poker-night/2027-07-15/
END:VEVENT
BEGIN:VEVENT
DTSTART;TZID=UTC:20270722T180000
DTEND;TZID=UTC:20270722T200000
DTSTAMP:20260425T173426
CREATED:20240910T215309Z
LAST-MODIFIED:20240910T215551Z
UID:10000935-1816279200-1816286400@www.providence-golf.com
SUMMARY:Thursday Night POKER night
DESCRIPTION:Come join the action at Blue Heron Tavern @ Providence for FREE Poker Night.
URL:https://www.providence-golf.com/event/thursday-night-poker-night/2027-07-22/
END:VEVENT
BEGIN:VEVENT
DTSTART;TZID=UTC:20270729T180000
DTEND;TZID=UTC:20270729T200000
DTSTAMP:20260425T173426
CREATED:20240910T215309Z
LAST-MODIFIED:20240910T215551Z
UID:10000936-1816884000-1816891200@www.providence-golf.com
SUMMARY:Thursday Night POKER night
DESCRIPTION:Come join the action at Blue Heron Tavern @ Providence for FREE Poker Night.
URL:https://www.providence-golf.com/event/thursday-night-poker-night/2027-07-29/
END:VEVENT
END:VCALENDAR