BEGIN:VCALENDAR
VERSION:2.0
PRODID:-//Providence Golf Club - ECPv6.15.18//NONSGML v1.0//EN
CALSCALE:GREGORIAN
METHOD:PUBLISH
X-ORIGINAL-URL:https://www.providence-golf.com
X-WR-CALDESC:Events for Providence Golf Club
REFRESH-INTERVAL;VALUE=DURATION:PT1H
X-Robots-Tag:noindex
X-PUBLISHED-TTL:PT1H
BEGIN:VTIMEZONE
TZID:UTC
BEGIN:STANDARD
TZOFFSETFROM:+0000
TZOFFSETTO:+0000
TZNAME:UTC
DTSTART:20240101T000000
END:STANDARD
END:VTIMEZONE
BEGIN:VEVENT
DTSTART;TZID=UTC:20250401T190000
DTEND;TZID=UTC:20250401T210000
DTSTAMP:20260419T122058
CREATED:20240910T215150Z
LAST-MODIFIED:20240910T215942Z
UID:10000554-1743534000-1743541200@www.providence-golf.com
SUMMARY:Bingo Night Every Tuesday
DESCRIPTION:BINGO!!!! Scream it loud for all to hear. Come join us at Blue Heron Tavern @ Providence for BINGO.
URL:https://www.providence-golf.com/event/bingo-night-every-tuesday/2025-04-01/
END:VEVENT
BEGIN:VEVENT
DTSTART;TZID=UTC:20250403T180000
DTEND;TZID=UTC:20250403T200000
DTSTAMP:20260419T122058
CREATED:20240910T215309Z
LAST-MODIFIED:20240910T215551Z
UID:10000815-1743703200-1743710400@www.providence-golf.com
SUMMARY:Thursday Night POKER night
DESCRIPTION:Come join the action at Blue Heron Tavern @ Providence for FREE Poker Night.
URL:https://www.providence-golf.com/event/thursday-night-poker-night/2025-04-03/
END:VEVENT
BEGIN:VEVENT
DTSTART;TZID=UTC:20250405T070000
DTEND;TZID=UTC:20250405T090000
DTSTAMP:20260419T122058
CREATED:20240821T172204Z
LAST-MODIFIED:20240821T172243Z
UID:10000298-1743836400-1743843600@www.providence-golf.com
SUMMARY:Men's League - Skins Game
DESCRIPTION:
URL:https://www.providence-golf.com/event/mens-league-skins-game/2025-04-05/
END:VEVENT
BEGIN:VEVENT
DTSTART;TZID=UTC:20250408T190000
DTEND;TZID=UTC:20250408T210000
DTSTAMP:20260419T122058
CREATED:20240910T215150Z
LAST-MODIFIED:20240910T215942Z
UID:10000555-1744138800-1744146000@www.providence-golf.com
SUMMARY:Bingo Night Every Tuesday
DESCRIPTION:BINGO!!!! Scream it loud for all to hear. Come join us at Blue Heron Tavern @ Providence for BINGO.
URL:https://www.providence-golf.com/event/bingo-night-every-tuesday/2025-04-08/
END:VEVENT
BEGIN:VEVENT
DTSTART;TZID=UTC:20250410T180000
DTEND;TZID=UTC:20250410T200000
DTSTAMP:20260419T122058
CREATED:20240910T215309Z
LAST-MODIFIED:20240910T215551Z
UID:10000816-1744308000-1744315200@www.providence-golf.com
SUMMARY:Thursday Night POKER night
DESCRIPTION:Come join the action at Blue Heron Tavern @ Providence for FREE Poker Night.
URL:https://www.providence-golf.com/event/thursday-night-poker-night/2025-04-10/
END:VEVENT
BEGIN:VEVENT
DTSTART;TZID=UTC:20250412T070000
DTEND;TZID=UTC:20250412T090000
DTSTAMP:20260419T122058
CREATED:20240821T172204Z
LAST-MODIFIED:20240821T172243Z
UID:10000299-1744441200-1744448400@www.providence-golf.com
SUMMARY:Men's League - Skins Game
DESCRIPTION:
URL:https://www.providence-golf.com/event/mens-league-skins-game/2025-04-12/
END:VEVENT
BEGIN:VEVENT
DTSTART;TZID=UTC:20250415T190000
DTEND;TZID=UTC:20250415T210000
DTSTAMP:20260419T122058
CREATED:20240910T215150Z
LAST-MODIFIED:20240910T215942Z
UID:10000556-1744743600-1744750800@www.providence-golf.com
SUMMARY:Bingo Night Every Tuesday
DESCRIPTION:BINGO!!!! Scream it loud for all to hear. Come join us at Blue Heron Tavern @ Providence for BINGO.
URL:https://www.providence-golf.com/event/bingo-night-every-tuesday/2025-04-15/
END:VEVENT
BEGIN:VEVENT
DTSTART;TZID=UTC:20250417T180000
DTEND;TZID=UTC:20250417T200000
DTSTAMP:20260419T122058
CREATED:20240910T215309Z
LAST-MODIFIED:20240910T215551Z
UID:10000817-1744912800-1744920000@www.providence-golf.com
SUMMARY:Thursday Night POKER night
DESCRIPTION:Come join the action at Blue Heron Tavern @ Providence for FREE Poker Night.
URL:https://www.providence-golf.com/event/thursday-night-poker-night/2025-04-17/
END:VEVENT
BEGIN:VEVENT
DTSTART;TZID=UTC:20250419T070000
DTEND;TZID=UTC:20250419T090000
DTSTAMP:20260419T122058
CREATED:20240821T172204Z
LAST-MODIFIED:20240821T172243Z
UID:10000300-1745046000-1745053200@www.providence-golf.com
SUMMARY:Men's League - Skins Game
DESCRIPTION:
URL:https://www.providence-golf.com/event/mens-league-skins-game/2025-04-19/
END:VEVENT
BEGIN:VEVENT
DTSTART;TZID=UTC:20250422T190000
DTEND;TZID=UTC:20250422T210000
DTSTAMP:20260419T122058
CREATED:20240910T215150Z
LAST-MODIFIED:20240910T215942Z
UID:10000557-1745348400-1745355600@www.providence-golf.com
SUMMARY:Bingo Night Every Tuesday
DESCRIPTION:BINGO!!!! Scream it loud for all to hear. Come join us at Blue Heron Tavern @ Providence for BINGO.
URL:https://www.providence-golf.com/event/bingo-night-every-tuesday/2025-04-22/
END:VEVENT
BEGIN:VEVENT
DTSTART;TZID=UTC:20250424T180000
DTEND;TZID=UTC:20250424T200000
DTSTAMP:20260419T122058
CREATED:20240910T215309Z
LAST-MODIFIED:20240910T215551Z
UID:10000818-1745517600-1745524800@www.providence-golf.com
SUMMARY:Thursday Night POKER night
DESCRIPTION:Come join the action at Blue Heron Tavern @ Providence for FREE Poker Night.
URL:https://www.providence-golf.com/event/thursday-night-poker-night/2025-04-24/
END:VEVENT
BEGIN:VEVENT
DTSTART;TZID=UTC:20250426T070000
DTEND;TZID=UTC:20250426T090000
DTSTAMP:20260419T122058
CREATED:20240821T172204Z
LAST-MODIFIED:20240821T172243Z
UID:10000301-1745650800-1745658000@www.providence-golf.com
SUMMARY:Men's League - Skins Game
DESCRIPTION:
URL:https://www.providence-golf.com/event/mens-league-skins-game/2025-04-26/
END:VEVENT
BEGIN:VEVENT
DTSTART;TZID=UTC:20250429T190000
DTEND;TZID=UTC:20250429T210000
DTSTAMP:20260419T122058
CREATED:20240910T215150Z
LAST-MODIFIED:20240910T215942Z
UID:10000558-1745953200-1745960400@www.providence-golf.com
SUMMARY:Bingo Night Every Tuesday
DESCRIPTION:BINGO!!!! Scream it loud for all to hear. Come join us at Blue Heron Tavern @ Providence for BINGO.
URL:https://www.providence-golf.com/event/bingo-night-every-tuesday/2025-04-29/
END:VEVENT
END:VCALENDAR